BEGIN:VCALENDAR
VERSION:2.0
PRODID:-//Simpson Senior Living - ECPv6.15.20//NONSGML v1.0//EN
CALSCALE:GREGORIAN
METHOD:PUBLISH
X-WR-CALNAME:Simpson Senior Living
X-ORIGINAL-URL:https://www.simpsonsenior.org
X-WR-CALDESC:Events for Simpson Senior Living
REFRESH-INTERVAL;VALUE=DURATION:PT1H
X-Robots-Tag:noindex
X-PUBLISHED-TTL:PT1H
BEGIN:VTIMEZONE
TZID:America/New_York
BEGIN:DAYLIGHT
TZOFFSETFROM:-0500
TZOFFSETTO:-0400
TZNAME:EDT
DTSTART:20230312T070000
END:DAYLIGHT
BEGIN:STANDARD
TZOFFSETFROM:-0400
TZOFFSETTO:-0500
TZNAME:EST
DTSTART:20231105T060000
END:STANDARD
BEGIN:DAYLIGHT
TZOFFSETFROM:-0500
TZOFFSETTO:-0400
TZNAME:EDT
DTSTART:20240310T070000
END:DAYLIGHT
BEGIN:STANDARD
TZOFFSETFROM:-0400
TZOFFSETTO:-0500
TZNAME:EST
DTSTART:20241103T060000
END:STANDARD
BEGIN:DAYLIGHT
TZOFFSETFROM:-0500
TZOFFSETTO:-0400
TZNAME:EDT
DTSTART:20250309T070000
END:DAYLIGHT
BEGIN:STANDARD
TZOFFSETFROM:-0400
TZOFFSETTO:-0500
TZNAME:EST
DTSTART:20251102T060000
END:STANDARD
END:VTIMEZONE
BEGIN:VEVENT
DTSTART;TZID=America/New_York:20241204T110000
DTEND;TZID=America/New_York:20241204T120000
DTSTAMP:20260425T071204
CREATED:20241010T201126Z
LAST-MODIFIED:20241010T201126Z
UID:1839-1733310000-1733313600@www.simpsonsenior.org
SUMMARY:Simpson House: Community Living 101 Webinar
DESCRIPTION:Tune in from the comfort of home to learn about the benefits of Life Plan Community living and the many differences you’ll find at Simpson House. See why people from all walks of life love the eclectic lifestyle and one of the best values you’ll find in Life Plan Communities. RSVP and we’ll send you a Zoom link with instructions on how to join from your computer\, phone or smartphone. \nTo learn more\, please call (267) 310-2047 or fill out the form below to RSVP. We are excited to meet you! \nRSVP Here
URL:https://www.simpsonsenior.org/event/simpson-house-community-living-101-webinar/
LOCATION:ZOOM
CATEGORIES:Simpson House
ATTACH;FMTTYPE=image/jpeg:https://www.simpsonsenior.org/wp-content/uploads/2024/10/SH-Community-Living-101-Webinar.jpg
END:VEVENT
BEGIN:VEVENT
DTSTART;TZID=America/New_York:20241204T140000
DTEND;TZID=America/New_York:20241204T150000
DTSTAMP:20260425T071204
CREATED:20241010T203043Z
LAST-MODIFIED:20241010T203043Z
UID:1848-1733320800-1733324400@www.simpsonsenior.org
SUMMARY:Simpson Meadows: Community Living 101 Webinar
DESCRIPTION:Tune in from the comfort of home on to learn about the benefits of Life Plan community living and many differences you’ll find at Simpson Communities. See why Simpson Meadows in particular has a special reputation for neighbors helping neighbors. RSVP and we’ll send you a Zoom link with instructions on how to join from your computer\, phone or smartphone. \nTo learn more\, please call (610) 885-0355 or fill out the form below to RSVP. We are excited to meet you! \nRSVP Here
URL:https://www.simpsonsenior.org/event/simpson-meadows-community-living-101-webinar/
LOCATION:ZOOM
CATEGORIES:Simpson Meadows
ATTACH;FMTTYPE=image/jpeg:https://www.simpsonsenior.org/wp-content/uploads/2024/10/SM-Community-Living-101-Webinar.jpg
END:VEVENT
BEGIN:VEVENT
DTSTART;TZID=America/New_York:20241205T170000
DTEND;TZID=America/New_York:20241205T190000
DTSTAMP:20260425T071204
CREATED:20241010T200252Z
LAST-MODIFIED:20241010T200252Z
UID:1832-1733418000-1733425200@www.simpsonsenior.org
SUMMARY:Jenner's Pond: Holiday Lights Tour
DESCRIPTION:Experience the magic of the season with our enchanting Holiday Lights Tour! Join us for a cozy\, guided tour through Jenner’s Pond campus\, where dazzling displays of holiday lights and festive decorations await. Sip hot cocoa and delight in holiday treats to enhance the festive atmosphere. Your knowledgeable Elf will share fun facts and stories about the community. Bundle up\, bring your holiday cheer\, and let us whisk you away on an unforgettable journey through a winter wonderland! \nTo learn more\, please call (610) 890-6005 or fill out the form below to RSVP. We are excited to meet you! \nRSVP Here
URL:https://www.simpsonsenior.org/event/jenners-pond-holiday-lights-tour/
LOCATION:Jenner’s Pond\, 2000 Greenbriar Lane\, West Grove\, PA\, 19390\, United States
CATEGORIES:Jenner's Pond
ATTACH;FMTTYPE=image/jpeg:https://www.simpsonsenior.org/wp-content/uploads/2024/10/JP-Holiday-Lights-Tour.jpg
END:VEVENT
BEGIN:VEVENT
DTSTART;TZID=America/New_York:20241213T170000
DTEND;TZID=America/New_York:20241213T193000
DTSTAMP:20260425T071204
CREATED:20241108T203220Z
LAST-MODIFIED:20241108T203333Z
UID:1856-1734109200-1734118200@www.simpsonsenior.org
SUMMARY:Simpson House: Festival of Trees Mingle & Jingle
DESCRIPTION:Get into the holiday spirit at the Simpson House. Join us for holiday-inspired refreshments and appetizers at Philadelphia’s most eclectic 62+ community. Our choir will serenade you with all the holiday classics. Before the concert\, you’re invited to mingle and jingle with residents and team members to experience what life is like at the Simpson House. Each floor and department has a Christmas tree decoration contest for you to judge. \n\n5-6:30 Festival of Trees Mingle & Jingle\n6:30-7:30 Choir Performance + H’ors D’oeuvres\n\nTo learn more\, please call (267) 310-2047 or fill out the form below to RSVP. We are excited to meet you! \nRSVP Here
URL:https://www.simpsonsenior.org/event/simpson-house-festival-of-trees-mingle-jingle/
LOCATION:Simpson House\, 2101 Belmont Avenue\, Philadelphia\, PA\, 19131\, United States
CATEGORIES:Simpson House
ATTACH;FMTTYPE=image/jpeg:https://www.simpsonsenior.org/wp-content/uploads/2024/11/SH-Festival-of-Trees-Mingle-Jingle.jpg
END:VEVENT
BEGIN:VEVENT
DTSTART;TZID=America/New_York:20241218T140000
DTEND;TZID=America/New_York:20241218T160000
DTSTAMP:20260425T071204
CREATED:20241108T203737Z
LAST-MODIFIED:20241108T203802Z
UID:1858-1734530400-1734537600@www.simpsonsenior.org
SUMMARY:Simpson Meadows: Festival of Trees
DESCRIPTION:We invite you to celebrate the holiday season at Simpson Meadows\, a small-town Life Plan community with a big heart. Join us for holiday-inspired refreshments and appetizers\, and enjoy festive music as you mingle and jingle with residents and team members. This event is the perfect opportunity to experience what life is like in our community. \nYou’ll even get to judge our Christmas tree decoration contest\, visiting each floor and department to determine who has the most creative holiday spirit. We hope to see you there! \nTo learn more\, please call (610) 885-0355 or fill out the form below to RSVP. We are excited to meet you! \nRSVP Here
URL:https://www.simpsonsenior.org/event/simpson-meadows-festival-of-trees/
LOCATION:Simpson Meadows\, 101 Plaza Drive\, Downingtown\, PA\, 19335\, United States
CATEGORIES:Simpson Meadows
ATTACH;FMTTYPE=image/jpeg:https://www.simpsonsenior.org/wp-content/uploads/2024/11/SM-Festival-of-Trees.jpg
END:VEVENT
BEGIN:VEVENT
DTSTART;TZID=America/New_York:20241219T130000
DTEND;TZID=America/New_York:20241219T140000
DTSTAMP:20260425T071204
CREATED:20241108T153455Z
LAST-MODIFIED:20241108T153455Z
UID:1853-1734613200-1734616800@www.simpsonsenior.org
SUMMARY:Jenner's Pond: Community Living 101 Webinar
DESCRIPTION:Tune in from the comfort of home on to learn about the benefits of Life Plan community living and many differences you’ll find at Jenner’s Pond. See why our expansive homes are some of the biggest floor plans you’ll find and while many residents are skipping the 55+ community stage for Jenner’s Pond. RSVP and we’ll send you a Zoom link with instructions on how to join from your computer\, phone or smartphone. \nTo learn more\, please call (610) 890-6005 or fill out the form below to RSVP. We are excited to meet you! \nRSVP Here
URL:https://www.simpsonsenior.org/event/jenners-pond-community-living-101-webinar/
LOCATION:ZOOM
CATEGORIES:Jenner's Pond
ATTACH;FMTTYPE=image/jpeg:https://www.simpsonsenior.org/wp-content/uploads/2024/11/JP-Community-Living-101-Webinar-.jpg
END:VEVENT
END:VCALENDAR