BEGIN:VCALENDAR
VERSION:2.0
PRODID:-//Simpson Senior Living - ECPv6.15.20//NONSGML v1.0//EN
CALSCALE:GREGORIAN
METHOD:PUBLISH
X-ORIGINAL-URL:https://www.simpsonsenior.org
X-WR-CALDESC:Events for Simpson Senior Living
REFRESH-INTERVAL;VALUE=DURATION:PT1H
X-Robots-Tag:noindex
X-PUBLISHED-TTL:PT1H
BEGIN:VTIMEZONE
TZID:America/New_York
BEGIN:DAYLIGHT
TZOFFSETFROM:-0500
TZOFFSETTO:-0400
TZNAME:EDT
DTSTART:20250309T070000
END:DAYLIGHT
BEGIN:STANDARD
TZOFFSETFROM:-0400
TZOFFSETTO:-0500
TZNAME:EST
DTSTART:20251102T060000
END:STANDARD
BEGIN:DAYLIGHT
TZOFFSETFROM:-0500
TZOFFSETTO:-0400
TZNAME:EDT
DTSTART:20260308T070000
END:DAYLIGHT
BEGIN:STANDARD
TZOFFSETFROM:-0400
TZOFFSETTO:-0500
TZNAME:EST
DTSTART:20261101T060000
END:STANDARD
BEGIN:DAYLIGHT
TZOFFSETFROM:-0500
TZOFFSETTO:-0400
TZNAME:EDT
DTSTART:20270314T070000
END:DAYLIGHT
BEGIN:STANDARD
TZOFFSETFROM:-0400
TZOFFSETTO:-0500
TZNAME:EST
DTSTART:20271107T060000
END:STANDARD
END:VTIMEZONE
BEGIN:VEVENT
DTSTART;TZID=America/New_York:20260409T130000
DTEND;TZID=America/New_York:20260409T150000
DTSTAMP:20260421T074232
CREATED:20260316T151647Z
LAST-MODIFIED:20260316T151741Z
UID:3056-1775739600-1775746800@www.simpsonsenior.org
SUMMARY:Simpson Meadows: Savor the Flavor Chef Showcase
DESCRIPTION:Come hungry! The flavors of Simpson Meadows are on full display. Join us on April 9 at 1:00 p.m. for a special chef showcase featuring signature dishes and seasonal favorites prepared by the Simpson Meadows culinary team. Enjoy handcrafted bites\, meet the chefs behind the menus\, and discover how thoughtful dining adds flavor to everyday life here. Stay for the tastes and take a tour afterward if you’d like to see more of the community. \nTo learn more\, please call (610) 885-0355 or fill out the form below to RSVP. We are excited to meet you! \nRSVP Here
URL:https://www.simpsonsenior.org/event/simpson-meadows-savor-the-flavor-chef-showcase/
LOCATION:Simpson Meadows\, 101 Plaza Drive\, Downingtown\, PA\, 19335\, United States
CATEGORIES:Simpson Meadows
ATTACH;FMTTYPE=image/png:https://www.simpsonsenior.org/wp-content/uploads/2026/03/Simpson-Meadows-Savor-the-Flavor-Chef-Showcase.png
END:VEVENT
BEGIN:VEVENT
DTSTART;TZID=America/New_York:20260415T140000
DTEND;TZID=America/New_York:20260415T150000
DTSTAMP:20260421T074232
CREATED:20260316T152212Z
LAST-MODIFIED:20260316T152258Z
UID:3058-1776261600-1776265200@www.simpsonsenior.org
SUMMARY:Simpson Meadows: Life Plan Communities - What You Need to Know
DESCRIPTION:Planning for the future doesn’t have to feel complicated. Join us on April 15 at 2:00 p.m. for a friendly\, informative conversation about Life Plan Communities. We’ll explore what they are\, how they work\, and why so many people are exploring this lifestyle. Bring your questions and curiosity…we’ll take it from there. \nTo learn more\, please call (610) 885-0355 or fill out the form below to RSVP. We are excited to meet you! \nRSVP Here
URL:https://www.simpsonsenior.org/event/simpson-meadows-life-plan-communities-what-you-need-to-know/
LOCATION:Simpson Meadows\, 101 Plaza Drive\, Downingtown\, PA\, 19335\, United States
CATEGORIES:Simpson Meadows
ATTACH;FMTTYPE=image/png:https://www.simpsonsenior.org/wp-content/uploads/2026/03/Simpson-Meadows-Life-Plan-Communities-What-You-Need-to-Know.png
END:VEVENT
BEGIN:VEVENT
DTSTART;TZID=America/New_York:20260420T113000
DTEND;TZID=America/New_York:20260420T130000
DTSTAMP:20260421T074232
CREATED:20260316T145710Z
LAST-MODIFIED:20260402T164938Z
UID:3046-1776684600-1776690000@www.simpsonsenior.org
SUMMARY:Simpson House: Philly Culture Day & Simpson House Meet-And-Greet
DESCRIPTION:Philadelphia is known for bold flavors and great stories\, and Simpson House has a few of its own. Join us on April 20 at 11:30 a.m. for a lively look at the traditions\, tastes and history that make this city so special. Executive Director Richard Coyle will share the story of Simpson House and its place in Philadelphia’s past and present. Come for the Philly flavor and stay for the stories. \nTo learn more\, please call (267) 310-2047 or fill out the form below to RSVP. We are excited to meet you! \nRSVP Here
URL:https://www.simpsonsenior.org/event/simpson-house-philly-culture-day-simpson-house-meet-and-greet/
LOCATION:Simpson House\, 2101 Belmont Avenue\, Philadelphia\, PA\, 19131\, United States
CATEGORIES:Simpson House
ATTACH;FMTTYPE=image/png:https://www.simpsonsenior.org/wp-content/uploads/2026/03/Simpson-House-Flavors-of-Philly-Culture-Simpson-House-History.png
END:VEVENT
BEGIN:VEVENT
DTSTART;TZID=America/New_York:20260422T100000
DTEND;TZID=America/New_York:20260422T110000
DTSTAMP:20260421T074232
CREATED:20260316T150702Z
LAST-MODIFIED:20260316T150743Z
UID:3051-1776852000-1776855600@www.simpsonsenior.org
SUMMARY:Jenner's Pond: Life Plan Communities - What You Need to Know
DESCRIPTION:Planning for the future doesn’t have to feel complicated. Join us on April 22 at 10:00 a.m. for a friendly\, informative conversation about Life Plan Communities. We’ll explore what they are\, how they work\, and why so many people are exploring this lifestyle. Bring your questions and curiosity…we’ll take it from there. \nTo learn more\, please call (610) 890-6005 or fill out the form below to RSVP. We are excited to meet you! \nRSVP Here
URL:https://www.simpsonsenior.org/event/jenners-pond-life-plan-communities-what-you-need-to-know/
LOCATION:Jenner’s Pond\, 2000 Greenbriar Lane\, West Grove\, PA\, 19390\, United States
CATEGORIES:Jenner's Pond
ATTACH;FMTTYPE=image/png:https://www.simpsonsenior.org/wp-content/uploads/2026/03/Jenners-Pond-Life-Plan-Communities-What-You-Need-to-Know.png
END:VEVENT
BEGIN:VEVENT
DTSTART;TZID=America/New_York:20260429T150000
DTEND;TZID=America/New_York:20260429T163000
DTSTAMP:20260421T074232
CREATED:20260316T151204Z
LAST-MODIFIED:20260316T151250Z
UID:3054-1777474800-1777480200@www.simpsonsenior.org
SUMMARY:Jenner's Pond: Paws & Patios Open House
DESCRIPTION:Grab your four-legged friend and join us on April 29 at 3:00 p.m. for a tail-wagging good time at Jenner’s Pond. This dog-friendly open house features treats for pups and people\, plus a chance to explore beautiful outdoor spaces and cottage homes up to 3\,400 sq. ft.\, with plenty of room for you and your dog to roam. Discover why life here is something to bark about. \nTo learn more\, please call (610) 890-6005 or fill out the form below to RSVP. We are excited to meet you! \nRSVP Here
URL:https://www.simpsonsenior.org/event/jenners-pond-paws-patios-open-house/
LOCATION:Jenner’s Pond\, 2000 Greenbriar Lane\, West Grove\, PA\, 19390\, United States
CATEGORIES:Jenner's Pond
ATTACH;FMTTYPE=image/png:https://www.simpsonsenior.org/wp-content/uploads/2026/03/Jenners-Pond-Paws-Patios-Open-House.png
END:VEVENT
BEGIN:VEVENT
DTSTART;TZID=America/New_York:20260506T100000
DTEND;TZID=America/New_York:20260506T113000
DTSTAMP:20260421T074232
CREATED:20260420T183652Z
LAST-MODIFIED:20260420T183735Z
UID:3079-1778061600-1778067000@www.simpsonsenior.org
SUMMARY:Simpson House: Painting + Petit Fours
DESCRIPTION:At Painting + Petit Fours\, you’ll be guided step-by-step as you create a painting of your own\, no experience required. We’ll have all supplies ready (canvas\, brushes\, paints\, aprons\, and easels)\, plus mimosas and pastries in a relaxed\, welcoming setting\, making it easy to stay awhile. \nTo learn more\, please call (267) 310-2047 or fill out the form below to RSVP. We are excited to meet you! \nRSVP Here
URL:https://www.simpsonsenior.org/event/simpson-house-painting-petit-fours/
LOCATION:Simpson House\, 2101 Belmont Avenue\, Philadelphia\, PA\, 19131\, United States
CATEGORIES:Simpson House
ATTACH;FMTTYPE=image/png:https://www.simpsonsenior.org/wp-content/uploads/2026/04/Painting-Petit-Fours.png
END:VEVENT
BEGIN:VEVENT
DTSTART;TZID=America/New_York:20260513T140000
DTEND;TZID=America/New_York:20260513T160000
DTSTAMP:20260421T074232
CREATED:20260420T185331Z
LAST-MODIFIED:20260420T185420Z
UID:3084-1778680800-1778688000@www.simpsonsenior.org
SUMMARY:Simpson Meadows: Painting + Petit Fours
DESCRIPTION:At Painting + Petit Fours\, you’ll be guided step-by-step as you create a painting of your own\, no experience required. We’ll have all supplies ready (canvas\, brushes\, paints\, aprons\, and easels)\, plus mimosas and pastries in a relaxed\, welcoming setting make it easy to stay awhile. \nTo learn more\, please call (610) 885-0355 or fill out the form below to RSVP. We are excited to meet you! \nRSVP Here
URL:https://www.simpsonsenior.org/event/simpson-meadows-painting-petit-fours/
LOCATION:Simpson Meadows\, 101 Plaza Drive\, Downingtown\, PA\, 19335\, United States
CATEGORIES:Simpson Meadows
ATTACH;FMTTYPE=image/png:https://www.simpsonsenior.org/wp-content/uploads/2026/04/SM-Painting-Petit-Fours.png
END:VEVENT
BEGIN:VEVENT
DTSTART;TZID=America/New_York:20260516T103000
DTEND;TZID=America/New_York:20260516T120000
DTSTAMP:20260421T074232
CREATED:20260420T181740Z
LAST-MODIFIED:20260420T182217Z
UID:3073-1778927400-1778932800@www.simpsonsenior.org
SUMMARY:Jenner's Pond: Saturday Series - When AI Meets Cognitive Change\, A Session For Everyone
DESCRIPTION:Simpson is using Amba\, an Al-powered platform\, to better understand cognitive change and the insights are incredible. Join us to see it in action\, meet the team and learn practical ways to support people living with cognitive change. \nSaturday Series: Living Well with Cognitive Change\nCognitive change impacts one in six people over 80. Whether for yourself or someone you love\, understanding it matters. Join us for a positive\, engaging series filled with insight\, conversation\, and connection. Refreshments served. \nTo learn more\, please call (610) 890-6005 or fill out the form below to RSVP. We are excited to meet you! \nRSVP Here
URL:https://www.simpsonsenior.org/event/jenners-pond-saturday-series-when-ai-meets-cognitive-change-a-session-for-everyone/
LOCATION:Jenner’s Pond\, 2000 Greenbriar Lane\, West Grove\, PA\, 19390\, United States
CATEGORIES:Jenner's Pond
ATTACH;FMTTYPE=image/png:https://www.simpsonsenior.org/wp-content/uploads/2026/04/JP-When-AI-Meets-Cognitive-Change-Series.png
END:VEVENT
BEGIN:VEVENT
DTSTART;TZID=America/New_York:20260519T100000
DTEND;TZID=America/New_York:20260519T120000
DTSTAMP:20260421T074232
CREATED:20260420T184200Z
LAST-MODIFIED:20260420T184240Z
UID:3081-1779184800-1779192000@www.simpsonsenior.org
SUMMARY:Simpson House: One More Cup - Coffee & Conversations
DESCRIPTION:The first cup gets the day going. The second opens the door to conversation. Spend that second cup at Simpson House for a casual Q&A session and tour of our community. Meet resident experts and Simpson House’s Pastor David over hot coffee and fresh pastries. Make sure to bring questions and friends. All are welcome to join. \nTo learn more\, please call (267) 310-2047 or fill out the form below to RSVP. We are excited to meet you! \nRSVP Here
URL:https://www.simpsonsenior.org/event/simpson-house-one-more-cup-coffee-conversations/
LOCATION:Simpson House\, 2101 Belmont Avenue\, Philadelphia\, PA\, 19131\, United States
CATEGORIES:Simpson House
ATTACH;FMTTYPE=image/png:https://www.simpsonsenior.org/wp-content/uploads/2026/04/Simpson-House-One-More-Cup-Coffee-Conversations.png
END:VEVENT
BEGIN:VEVENT
DTSTART;TZID=America/New_York:20260519T120000
DTEND;TZID=America/New_York:20260519T140000
DTSTAMP:20260421T074232
CREATED:20260420T180928Z
LAST-MODIFIED:20260420T181038Z
UID:3071-1779192000-1779199200@www.simpsonsenior.org
SUMMARY:Jenner's Pond: Macarons + Masterpieces
DESCRIPTION:Creativity pairs well with something freshly baked. \nEnjoy a guided painting experience that takes you from blank canvas to finished masterpiece you can take home. Take a quick tour of living spaces\, meet residents\, and enjoy pastries fresh from our Executive Pastry Chef. Bring a friend! \nTo learn more\, please call (610) 890-6005 or fill out the form below to RSVP. We are excited to meet you! \nRSVP Here
URL:https://www.simpsonsenior.org/event/jenners-pond-macarons-masterpieces/
LOCATION:Jenner’s Pond\, 2000 Greenbriar Lane\, West Grove\, PA\, 19390\, United States
CATEGORIES:Jenner's Pond
ATTACH;FMTTYPE=image/png:https://www.simpsonsenior.org/wp-content/uploads/2026/04/JP-Macarons-Masterpieces.png
END:VEVENT
BEGIN:VEVENT
DTSTART;TZID=America/New_York:20260520T120000
DTEND;TZID=America/New_York:20260520T140000
DTSTAMP:20260421T074232
CREATED:20260420T185734Z
LAST-MODIFIED:20260420T185832Z
UID:3086-1779278400-1779285600@www.simpsonsenior.org
SUMMARY:Simpson Meadows: Assisted Living for Savvy Planners - Lunch\, Mimosas\, and a Conversation Worth Having
DESCRIPTION:Nearly 70% of adults will need care at some point. The problem is not knowing WHEN. \nUnderstanding your options and planning ahead makes all the difference. Discover our modern\, person-directed approach to assisted living\, including services\, no-commitment respite stays\, and pricing. Because the best time to decide isn’t in a crisis\, it’s before you need it. \nTo learn more\, please call (610) 885-0355 or fill out the form below to RSVP. We are excited to meet you! \nRSVP Here
URL:https://www.simpsonsenior.org/event/simpson-meadows-assisted-living-for-savvy-planners-lunch-mimosas-and-a-conversation-worth-having/
LOCATION:Simpson Meadows\, 101 Plaza Drive\, Downingtown\, PA\, 19335\, United States
CATEGORIES:Simpson Meadows
ATTACH;FMTTYPE=image/png:https://www.simpsonsenior.org/wp-content/uploads/2026/04/SM-Assisted-Living-for-Savvy-Planners.png
END:VEVENT
BEGIN:VEVENT
DTSTART;TZID=America/New_York:20260530T103000
DTEND;TZID=America/New_York:20260530T120000
DTSTAMP:20260421T074232
CREATED:20260420T182500Z
LAST-MODIFIED:20260420T182603Z
UID:3077-1780137000-1780142400@www.simpsonsenior.org
SUMMARY:Jenner's Pond: Saturday Series - Changing How You Care
DESCRIPTION:A thoughtful\, real-world conversation about what to do as cognitive change progresses\, with a simple framework to help you know when a new setting can bring more support\, dignity\, and connection for your loved one to thrive. \nSaturday Series: Living Well with Cognitive Change\nCognitive change impacts one in six people over 80. Whether for yourself or someone you love\, understanding it matters. Join us for a positive\, engaging series filled with insight\, conversation\, and connection. Refreshments served. \nTo learn more\, please call (610) 890-6005 or fill out the form below to RSVP. We are excited to meet you! \nRSVP Here
URL:https://www.simpsonsenior.org/event/jenners-pond-saturday-series-changing-how-you-care/
LOCATION:Jenner’s Pond\, 2000 Greenbriar Lane\, West Grove\, PA\, 19390\, United States
CATEGORIES:Jenner's Pond
ATTACH;FMTTYPE=image/png:https://www.simpsonsenior.org/wp-content/uploads/2026/04/JP-Changing-How-You-Care.png
END:VEVENT
END:VCALENDAR