BEGIN:VCALENDAR
VERSION:2.0
PRODID:-//Simpson Senior Living - ECPv6.15.20//NONSGML v1.0//EN
CALSCALE:GREGORIAN
METHOD:PUBLISH
X-ORIGINAL-URL:https://www.simpsonsenior.org
X-WR-CALDESC:Events for Simpson Senior Living
REFRESH-INTERVAL;VALUE=DURATION:PT1H
X-Robots-Tag:noindex
X-PUBLISHED-TTL:PT1H
BEGIN:VTIMEZONE
TZID:America/New_York
BEGIN:DAYLIGHT
TZOFFSETFROM:-0500
TZOFFSETTO:-0400
TZNAME:EDT
DTSTART:20250309T070000
END:DAYLIGHT
BEGIN:STANDARD
TZOFFSETFROM:-0400
TZOFFSETTO:-0500
TZNAME:EST
DTSTART:20251102T060000
END:STANDARD
BEGIN:DAYLIGHT
TZOFFSETFROM:-0500
TZOFFSETTO:-0400
TZNAME:EDT
DTSTART:20260308T070000
END:DAYLIGHT
BEGIN:STANDARD
TZOFFSETFROM:-0400
TZOFFSETTO:-0500
TZNAME:EST
DTSTART:20261101T060000
END:STANDARD
BEGIN:DAYLIGHT
TZOFFSETFROM:-0500
TZOFFSETTO:-0400
TZNAME:EDT
DTSTART:20270314T070000
END:DAYLIGHT
BEGIN:STANDARD
TZOFFSETFROM:-0400
TZOFFSETTO:-0500
TZNAME:EST
DTSTART:20271107T060000
END:STANDARD
END:VTIMEZONE
BEGIN:VEVENT
DTSTART;TZID=America/New_York:20260409T130000
DTEND;TZID=America/New_York:20260409T150000
DTSTAMP:20260419T141245
CREATED:20260316T151647Z
LAST-MODIFIED:20260316T151741Z
UID:3056-1775739600-1775746800@www.simpsonsenior.org
SUMMARY:Simpson Meadows: Savor the Flavor Chef Showcase
DESCRIPTION:Come hungry! The flavors of Simpson Meadows are on full display. Join us on April 9 at 1:00 p.m. for a special chef showcase featuring signature dishes and seasonal favorites prepared by the Simpson Meadows culinary team. Enjoy handcrafted bites\, meet the chefs behind the menus\, and discover how thoughtful dining adds flavor to everyday life here. Stay for the tastes and take a tour afterward if you’d like to see more of the community. \nTo learn more\, please call (610) 885-0355 or fill out the form below to RSVP. We are excited to meet you! \nRSVP Here
URL:https://www.simpsonsenior.org/event/simpson-meadows-savor-the-flavor-chef-showcase/
LOCATION:Simpson Meadows\, 101 Plaza Drive\, Downingtown\, PA\, 19335\, United States
CATEGORIES:Simpson Meadows
ATTACH;FMTTYPE=image/png:https://www.simpsonsenior.org/wp-content/uploads/2026/03/Simpson-Meadows-Savor-the-Flavor-Chef-Showcase.png
END:VEVENT
END:VCALENDAR