BEGIN:VCALENDAR
VERSION:2.0
PRODID:-//Simpson Senior Living - ECPv6.15.20//NONSGML v1.0//EN
CALSCALE:GREGORIAN
METHOD:PUBLISH
X-WR-CALNAME:Simpson Senior Living
X-ORIGINAL-URL:https://www.simpsonsenior.org
X-WR-CALDESC:Events for Simpson Senior Living
REFRESH-INTERVAL;VALUE=DURATION:PT1H
X-Robots-Tag:noindex
X-PUBLISHED-TTL:PT1H
BEGIN:VTIMEZONE
TZID:America/New_York
BEGIN:DAYLIGHT
TZOFFSETFROM:-0500
TZOFFSETTO:-0400
TZNAME:EDT
DTSTART:20250309T070000
END:DAYLIGHT
BEGIN:STANDARD
TZOFFSETFROM:-0400
TZOFFSETTO:-0500
TZNAME:EST
DTSTART:20251102T060000
END:STANDARD
BEGIN:DAYLIGHT
TZOFFSETFROM:-0500
TZOFFSETTO:-0400
TZNAME:EDT
DTSTART:20260308T070000
END:DAYLIGHT
BEGIN:STANDARD
TZOFFSETFROM:-0400
TZOFFSETTO:-0500
TZNAME:EST
DTSTART:20261101T060000
END:STANDARD
BEGIN:DAYLIGHT
TZOFFSETFROM:-0500
TZOFFSETTO:-0400
TZNAME:EDT
DTSTART:20270314T070000
END:DAYLIGHT
BEGIN:STANDARD
TZOFFSETFROM:-0400
TZOFFSETTO:-0500
TZNAME:EST
DTSTART:20271107T060000
END:STANDARD
END:VTIMEZONE
BEGIN:VEVENT
DTSTART;TZID=America/New_York:20260325T140000
DTEND;TZID=America/New_York:20260325T150000
DTSTAMP:20260419T154708
CREATED:20260224T155051Z
LAST-MODIFIED:20260224T155142Z
UID:3039-1774447200-1774450800@www.simpsonsenior.org
SUMMARY:Simpson Meadows: Spring Seed Swap & Garden Tour
DESCRIPTION:Ready to defrost? So are we. Join Simpson Meadows for an afternoon of fun for green thumbs and those who appreciate their hard work. Take a guided tour through our community planters and get an introduction to the Simpson Meadows Seed Bank: a place where residents exchange seeds and advice for garden explorations. Feel free to bring your own seeds or bulbs and become a part of the collaborative cultivation! Enjoy sips\, snacks\, and good company. \nTo learn more\, please call (610) 885-0355 or fill out the form below to RSVP. We are excited to meet you! \nRSVP Here
URL:https://www.simpsonsenior.org/event/simpson-meadows-spring-seed-swap-garden-tour/
LOCATION:Simpson Meadows\, 101 Plaza Drive\, Downingtown\, PA\, 19335\, United States
CATEGORIES:Simpson Meadows
ATTACH;FMTTYPE=image/png:https://www.simpsonsenior.org/wp-content/uploads/2026/02/SM-Spring-Seed-Swap-Garden-Tour.png
END:VEVENT
END:VCALENDAR