BEGIN:VCALENDAR
VERSION:2.0
PRODID:-//Simpson Senior Living - ECPv6.15.20//NONSGML v1.0//EN
CALSCALE:GREGORIAN
METHOD:PUBLISH
X-WR-CALNAME:Simpson Senior Living
X-ORIGINAL-URL:https://www.simpsonsenior.org
X-WR-CALDESC:Events for Simpson Senior Living
REFRESH-INTERVAL;VALUE=DURATION:PT1H
X-Robots-Tag:noindex
X-PUBLISHED-TTL:PT1H
BEGIN:VTIMEZONE
TZID:America/New_York
BEGIN:DAYLIGHT
TZOFFSETFROM:-0500
TZOFFSETTO:-0400
TZNAME:EDT
DTSTART:20250309T070000
END:DAYLIGHT
BEGIN:STANDARD
TZOFFSETFROM:-0400
TZOFFSETTO:-0500
TZNAME:EST
DTSTART:20251102T060000
END:STANDARD
BEGIN:DAYLIGHT
TZOFFSETFROM:-0500
TZOFFSETTO:-0400
TZNAME:EDT
DTSTART:20260308T070000
END:DAYLIGHT
BEGIN:STANDARD
TZOFFSETFROM:-0400
TZOFFSETTO:-0500
TZNAME:EST
DTSTART:20261101T060000
END:STANDARD
BEGIN:DAYLIGHT
TZOFFSETFROM:-0500
TZOFFSETTO:-0400
TZNAME:EDT
DTSTART:20270314T070000
END:DAYLIGHT
BEGIN:STANDARD
TZOFFSETFROM:-0400
TZOFFSETTO:-0500
TZNAME:EST
DTSTART:20271107T060000
END:STANDARD
END:VTIMEZONE
BEGIN:VEVENT
DTSTART;TZID=America/New_York:20260513T140000
DTEND;TZID=America/New_York:20260513T160000
DTSTAMP:20260423T162059
CREATED:20260420T185331Z
LAST-MODIFIED:20260420T185420Z
UID:3084-1778680800-1778688000@www.simpsonsenior.org
SUMMARY:Simpson Meadows: Painting + Petit Fours
DESCRIPTION:At Painting + Petit Fours\, you’ll be guided step-by-step as you create a painting of your own\, no experience required. We’ll have all supplies ready (canvas\, brushes\, paints\, aprons\, and easels)\, plus mimosas and pastries in a relaxed\, welcoming setting make it easy to stay awhile. \nTo learn more\, please call (610) 885-0355 or fill out the form below to RSVP. We are excited to meet you! \nRSVP Here
URL:https://www.simpsonsenior.org/event/simpson-meadows-painting-petit-fours/
LOCATION:Simpson Meadows\, 101 Plaza Drive\, Downingtown\, PA\, 19335\, United States
CATEGORIES:Simpson Meadows
ATTACH;FMTTYPE=image/png:https://www.simpsonsenior.org/wp-content/uploads/2026/04/SM-Painting-Petit-Fours.png
END:VEVENT
BEGIN:VEVENT
DTSTART;TZID=America/New_York:20260520T120000
DTEND;TZID=America/New_York:20260520T140000
DTSTAMP:20260423T162059
CREATED:20260420T185734Z
LAST-MODIFIED:20260420T185832Z
UID:3086-1779278400-1779285600@www.simpsonsenior.org
SUMMARY:Simpson Meadows: Assisted Living for Savvy Planners - Lunch\, Mimosas\, and a Conversation Worth Having
DESCRIPTION:Nearly 70% of adults will need care at some point. The problem is not knowing WHEN. \nUnderstanding your options and planning ahead makes all the difference. Discover our modern\, person-directed approach to assisted living\, including services\, no-commitment respite stays\, and pricing. Because the best time to decide isn’t in a crisis\, it’s before you need it. \nTo learn more\, please call (610) 885-0355 or fill out the form below to RSVP. We are excited to meet you! \nRSVP Here
URL:https://www.simpsonsenior.org/event/simpson-meadows-assisted-living-for-savvy-planners-lunch-mimosas-and-a-conversation-worth-having/
LOCATION:Simpson Meadows\, 101 Plaza Drive\, Downingtown\, PA\, 19335\, United States
CATEGORIES:Simpson Meadows
ATTACH;FMTTYPE=image/png:https://www.simpsonsenior.org/wp-content/uploads/2026/04/SM-Assisted-Living-for-Savvy-Planners.png
END:VEVENT
END:VCALENDAR