BEGIN:VCALENDAR
VERSION:2.0
PRODID:-//Simpson Senior Living - ECPv6.15.20//NONSGML v1.0//EN
CALSCALE:GREGORIAN
METHOD:PUBLISH
X-ORIGINAL-URL:https://www.simpsonsenior.org
X-WR-CALDESC:Events for Simpson Senior Living
REFRESH-INTERVAL;VALUE=DURATION:PT1H
X-Robots-Tag:noindex
X-PUBLISHED-TTL:PT1H
BEGIN:VTIMEZONE
TZID:America/New_York
BEGIN:DAYLIGHT
TZOFFSETFROM:-0500
TZOFFSETTO:-0400
TZNAME:EDT
DTSTART:20240310T070000
END:DAYLIGHT
BEGIN:STANDARD
TZOFFSETFROM:-0400
TZOFFSETTO:-0500
TZNAME:EST
DTSTART:20241103T060000
END:STANDARD
BEGIN:DAYLIGHT
TZOFFSETFROM:-0500
TZOFFSETTO:-0400
TZNAME:EDT
DTSTART:20250309T070000
END:DAYLIGHT
BEGIN:STANDARD
TZOFFSETFROM:-0400
TZOFFSETTO:-0500
TZNAME:EST
DTSTART:20251102T060000
END:STANDARD
BEGIN:DAYLIGHT
TZOFFSETFROM:-0500
TZOFFSETTO:-0400
TZNAME:EDT
DTSTART:20260308T070000
END:DAYLIGHT
BEGIN:STANDARD
TZOFFSETFROM:-0400
TZOFFSETTO:-0500
TZNAME:EST
DTSTART:20261101T060000
END:STANDARD
END:VTIMEZONE
BEGIN:VEVENT
DTSTART;TZID=America/New_York:20250408T100000
DTEND;TZID=America/New_York:20250408T120000
DTSTAMP:20260424T064624
CREATED:20250305T205818Z
LAST-MODIFIED:20250305T205818Z
UID:2582-1744106400-1744113600@www.simpsonsenior.org
SUMMARY:Simpson House: Art of Life Open House
DESCRIPTION:Celebrate at our Art of Life Open House\, where residents generously open their apartment homes to demonstrate their expertly decorated eclectic spaces with personal style. Take architectural tours of Olde Main\, and see art studios\, and gallery areas. Enjoy light appetizers\, beer\, wine\, and a specialty cocktail created just for this event. Plus\, meet the best people in the world: Our residents! RSVP is required\, and space is limited. Bring your questions\, and we’ll answer them! \nTo learn more\, please call (267) 310-2047 or fill out the form below to RSVP. We are excited to meet you! \nRSVP Here
URL:https://www.simpsonsenior.org/event/simpson-house-art-of-life-open-house/
LOCATION:Simpson House\, 2101 Belmont Avenue\, Philadelphia\, PA\, 19131\, United States
CATEGORIES:Simpson House
ATTACH;FMTTYPE=image/jpeg:https://www.simpsonsenior.org/wp-content/uploads/2025/03/The-Art-of-Life-Open-House.jpg
END:VEVENT
END:VCALENDAR