BEGIN:VCALENDAR
VERSION:2.0
PRODID:-//Simpson Senior Living - ECPv6.15.20//NONSGML v1.0//EN
CALSCALE:GREGORIAN
METHOD:PUBLISH
X-ORIGINAL-URL:https://www.simpsonsenior.org
X-WR-CALDESC:Events for Simpson Senior Living
REFRESH-INTERVAL;VALUE=DURATION:PT1H
X-Robots-Tag:noindex
X-PUBLISHED-TTL:PT1H
BEGIN:VTIMEZONE
TZID:America/New_York
BEGIN:DAYLIGHT
TZOFFSETFROM:-0500
TZOFFSETTO:-0400
TZNAME:EDT
DTSTART:20240310T070000
END:DAYLIGHT
BEGIN:STANDARD
TZOFFSETFROM:-0400
TZOFFSETTO:-0500
TZNAME:EST
DTSTART:20241103T060000
END:STANDARD
BEGIN:DAYLIGHT
TZOFFSETFROM:-0500
TZOFFSETTO:-0400
TZNAME:EDT
DTSTART:20250309T070000
END:DAYLIGHT
BEGIN:STANDARD
TZOFFSETFROM:-0400
TZOFFSETTO:-0500
TZNAME:EST
DTSTART:20251102T060000
END:STANDARD
BEGIN:DAYLIGHT
TZOFFSETFROM:-0500
TZOFFSETTO:-0400
TZNAME:EDT
DTSTART:20260308T070000
END:DAYLIGHT
BEGIN:STANDARD
TZOFFSETFROM:-0400
TZOFFSETTO:-0500
TZNAME:EST
DTSTART:20261101T060000
END:STANDARD
END:VTIMEZONE
BEGIN:VEVENT
DTSTART;TZID=America/New_York:20250213T150000
DTEND;TZID=America/New_York:20250213T170000
DTSTAMP:20260421T164057
CREATED:20250131T185114Z
LAST-MODIFIED:20250131T185933Z
UID:2402-1739458800-1739466000@www.simpsonsenior.org
SUMMARY:Jenner's Pond: PALentine’s Day Mixer
DESCRIPTION:Celebrate connection and camaraderie at our fun-filled social designed to help individuals and couples make the acquaintance of new “pals.” Enjoy engaging activities\, light refreshments\, and a welcoming atmosphere\, perfect for sparking meaningful friendships. Whether you’re new to the area or just looking to expand your social circle\, this is your chance to connect and have a great time! \nTo learn more\, please call (610) 890-6005 or fill out the form below to RSVP. We are excited to meet you! \nRSVP Here
URL:https://www.simpsonsenior.org/event/jenners-pond-palentines-day-mixer/
LOCATION:PA
CATEGORIES:Jenner's Pond
ATTACH;FMTTYPE=image/jpeg:https://www.simpsonsenior.org/wp-content/uploads/2025/01/JP-PALentines-Day-Mixer.jpg
END:VEVENT
END:VCALENDAR