BEGIN:VCALENDAR
VERSION:2.0
PRODID:-//Simpson Senior Living - ECPv6.15.20//NONSGML v1.0//EN
CALSCALE:GREGORIAN
METHOD:PUBLISH
X-ORIGINAL-URL:https://www.simpsonsenior.org
X-WR-CALDESC:Events for Simpson Senior Living
REFRESH-INTERVAL;VALUE=DURATION:PT1H
X-Robots-Tag:noindex
X-PUBLISHED-TTL:PT1H
BEGIN:VTIMEZONE
TZID:America/New_York
BEGIN:DAYLIGHT
TZOFFSETFROM:-0500
TZOFFSETTO:-0400
TZNAME:EDT
DTSTART:20240310T070000
END:DAYLIGHT
BEGIN:STANDARD
TZOFFSETFROM:-0400
TZOFFSETTO:-0500
TZNAME:EST
DTSTART:20241103T060000
END:STANDARD
BEGIN:DAYLIGHT
TZOFFSETFROM:-0500
TZOFFSETTO:-0400
TZNAME:EDT
DTSTART:20250309T070000
END:DAYLIGHT
BEGIN:STANDARD
TZOFFSETFROM:-0400
TZOFFSETTO:-0500
TZNAME:EST
DTSTART:20251102T060000
END:STANDARD
BEGIN:DAYLIGHT
TZOFFSETFROM:-0500
TZOFFSETTO:-0400
TZNAME:EDT
DTSTART:20260308T070000
END:DAYLIGHT
BEGIN:STANDARD
TZOFFSETFROM:-0400
TZOFFSETTO:-0500
TZNAME:EST
DTSTART:20261101T060000
END:STANDARD
END:VTIMEZONE
BEGIN:VEVENT
DTSTART;TZID=America/New_York:20250205T100000
DTEND;TZID=America/New_York:20250205T110000
DTSTAMP:20260421T054553
CREATED:20250131T185114Z
LAST-MODIFIED:20250131T185719Z
UID:2398-1738749600-1738753200@www.simpsonsenior.org
SUMMARY:Simpson House: Stressless Downsizing & Decluttering Webinar
DESCRIPTION:Our local downsizing expert will share practical tips on decluttering\, organizing\, and making informed decisions about what to keep\, donate\, or sell. Also\, learn about local resources that can help you get started and how to avoid feeling overwhelmed by the process. Attendees will leave feeling empowered to embrace the next chapter of your life with confidence and ease. Please RSVP to receive the Zoom link. \nTo learn more\, please call (267) 310-2047 or fill out the form below to RSVP. We are excited to meet you! \nRSVP Here
URL:https://www.simpsonsenior.org/event/simpson-house-stressless-downsizing-decluttering-webinar/
LOCATION:PA
CATEGORIES:Simpson House
ATTACH;FMTTYPE=image/jpeg:https://www.simpsonsenior.org/wp-content/uploads/2025/01/SH-Stressless-Downsizing-Decluttering-Webinar.jpg
END:VEVENT
BEGIN:VEVENT
DTSTART;TZID=America/New_York:20250205T140000
DTEND;TZID=America/New_York:20250205T150000
DTSTAMP:20260421T054553
CREATED:20250131T185111Z
LAST-MODIFIED:20250131T185734Z
UID:2396-1738764000-1738767600@www.simpsonsenior.org
SUMMARY:Jenner's Pond: Stressless Downsizing & Decluttering Webinar
DESCRIPTION:Our local downsizing expert will share practical tips on decluttering\, organizing\, and making informed decisions about what to keep\, donate\, or sell. Also\, learn about local resources that can help you get started and how to avoid feeling overwhelmed. Please RSVP to receive the Zoom link. \nTo learn more\, please call (610) 890-6005 or fill out the form below to RSVP. We are excited to meet you! \nRSVP Here
URL:https://www.simpsonsenior.org/event/jenners-pond-stressless-downsizing-decluttering-webinar/
LOCATION:PA
CATEGORIES:Jenner's Pond
ATTACH;FMTTYPE=image/jpeg:https://www.simpsonsenior.org/wp-content/uploads/2025/01/JP-Stressless-Downsizing-Decluttering-Webinar.jpg
END:VEVENT
BEGIN:VEVENT
DTSTART;TZID=America/New_York:20250205T140000
DTEND;TZID=America/New_York:20250205T150000
DTSTAMP:20260421T054553
CREATED:20250131T185111Z
LAST-MODIFIED:20250131T185754Z
UID:2397-1738764000-1738767600@www.simpsonsenior.org
SUMMARY:Simpson Meadows: Stressless Downsizing & Decluttering Webinar
DESCRIPTION:Our local downsizing expert will share practical tips on decluttering\, organizing\, and making informed decisions about what to keep\, donate\, or sell. Also\, learn about local resources that can help you get started and how to avoid feeling overwhelmed. Please RSVP to receive the Zoom link. \nTo learn more\, please call (610) 885-0355 or fill out the form below to RSVP. We are excited to meet you! \nRSVP Here
URL:https://www.simpsonsenior.org/event/simpson-meadows-stressless-downsizing-decluttering-webinar/
LOCATION:PA
CATEGORIES:Simpson Meadows
ATTACH;FMTTYPE=image/jpeg:https://www.simpsonsenior.org/wp-content/uploads/2025/01/SM-Stressless-Downsizing-Decluttering-Webinar.jpg
END:VEVENT
END:VCALENDAR